BEGIN:VCALENDAR
VERSION:2.0
PRODID:-//wp-events-plugin.com//7.2.3.1//EN
TZID:Europe/London
X-WR-TIMEZONE:Europe/London
BEGIN:VEVENT
UID:10108@parishofbasingstokedown.org.uk
DTSTART;TZID=Europe/London:20260330T140000
DTEND;TZID=Europe/London:20260330T160000
DTSTAMP:20260306T111943Z
URL:https://www.parishofbasingstokedown.org.uk/events/easter-messy-church-
 5/
SUMMARY:Easter Messy Church
DESCRIPTION:\n\nCome along for some Easter fun!\n\nLots of games\, craft\, 
 story\, food and fun - all for free!\n\nTo help us with our catering could
  you please book your places below and let us know if you have any dietary
  requirements by leaving details in the comments.\n\nPlease book all the p
 laces you need - children need to be accompanied by an adult.\n\nIf you ne
 ed to cancel your spaces please let the Parish Office know on office@paris
 hofbasingstokedown.org.uk so that they can be reallocated.
LOCATION:Hounsome Fields Primary School\, Treetop Avenue\, Basingstoke\, Ha
 mpshire\, RG23 7GJ\, United Kingdom
X-APPLE-STRUCTURED-LOCATION;VALUE=URI;X-ADDRESS=Treetop Avenue\, Basingstok
 e\, Hampshire\, RG23 7GJ\, United Kingdom;X-APPLE-RADIUS=100;X-TITLE=Houns
 ome Fields Primary School:geo:0,0
END:VEVENT
BEGIN:VTIMEZONE
TZID:Europe/London
X-LIC-LOCATION:Europe/London
BEGIN:DAYLIGHT
DTSTART:20260329T020000
TZOFFSETFROM:+0000
TZOFFSETTO:+0100
TZNAME:BST
END:DAYLIGHT
END:VTIMEZONE
END:VCALENDAR